BEGIN:VCALENDAR
VERSION:2.0
PRODID:-//Shanty Creek Resort - ECPv6.15.6//NONSGML v1.0//EN
CALSCALE:GREGORIAN
METHOD:PUBLISH
X-WR-CALNAME:Shanty Creek Resort
X-ORIGINAL-URL:https://www.shantycreek.com
X-WR-CALDESC:Events for Shanty Creek Resort
REFRESH-INTERVAL;VALUE=DURATION:PT1H
X-Robots-Tag:noindex
X-PUBLISHED-TTL:PT1H
BEGIN:VTIMEZONE
TZID:America/Detroit
BEGIN:DAYLIGHT
TZOFFSETFROM:-0500
TZOFFSETTO:-0400
TZNAME:EDT
DTSTART:20250309T070000
END:DAYLIGHT
BEGIN:STANDARD
TZOFFSETFROM:-0400
TZOFFSETTO:-0500
TZNAME:EST
DTSTART:20251102T060000
END:STANDARD
BEGIN:DAYLIGHT
TZOFFSETFROM:-0500
TZOFFSETTO:-0400
TZNAME:EDT
DTSTART:20260308T070000
END:DAYLIGHT
BEGIN:STANDARD
TZOFFSETFROM:-0400
TZOFFSETTO:-0500
TZNAME:EST
DTSTART:20261101T060000
END:STANDARD
BEGIN:DAYLIGHT
TZOFFSETFROM:-0500
TZOFFSETTO:-0400
TZNAME:EDT
DTSTART:20270314T070000
END:DAYLIGHT
BEGIN:STANDARD
TZOFFSETFROM:-0400
TZOFFSETTO:-0500
TZNAME:EST
DTSTART:20271107T060000
END:STANDARD
END:VTIMEZONE
BEGIN:VEVENT
DTSTART;TZID=America/Detroit:20260312T090000
DTEND;TZID=America/Detroit:20260312T210000
DTSTAMP:20260423T060140
CREATED:20240703T143910Z
LAST-MODIFIED:20240703T143910Z
UID:143268-1773306000-1773349200@www.shantycreek.com
SUMMARY:Thank You Thursdays
DESCRIPTION:Every Thursday during the ski season\, we’re saying thank you to our former and current military service members\, educators\, emergency personnel and service industry employees. \nThursdays | 9a-9p\n$46 Lift Tickets | $46 Rentals \nThursdays | 5p-9p\n$22 Lift Tickets | $33 Rentals \nThis promo is not available for purchase online. Offer is available in person at any lift ticket/rental outlet. Not valid on December 25 or January 1.
URL:https://www.shantycreek.com/event/thankful-thursdays/2026-03-12/
CATEGORIES:Ski,Snowmobiling
END:VEVENT
BEGIN:VEVENT
DTSTART;TZID=America/Detroit:20260305T090000
DTEND;TZID=America/Detroit:20260305T210000
DTSTAMP:20260423T060140
CREATED:20240703T143910Z
LAST-MODIFIED:20260225T150625Z
UID:139062-1772701200-1772744400@www.shantycreek.com
SUMMARY:Thank You Thursdays
DESCRIPTION:Every Thursday during the ski season\, we’re saying thank you to our former and current military service members\, educators\, emergency personnel and service industry employees. \nThursdays | 9a-9p\n$46 Lift Tickets | $46 Rentals \nThursdays | 5p-9p\n$22 Lift Tickets | $33 Rentals \nThis promo is not available for purchase online. Offer is available in person at any lift ticket/rental outlet. Not valid on December 25 or January 1.
URL:https://www.shantycreek.com/event/thankful-thursdays/2026-03-05/
CATEGORIES:Ski,Snowmobiling
END:VEVENT
BEGIN:VEVENT
DTSTART;TZID=America/Detroit:20260226T090000
DTEND;TZID=America/Detroit:20260226T210000
DTSTAMP:20260423T060140
CREATED:20240703T143910Z
LAST-MODIFIED:20260225T150625Z
UID:139061-1772096400-1772139600@www.shantycreek.com
SUMMARY:Thank You Thursdays
DESCRIPTION:Every Thursday during the ski season\, we’re saying thank you to our former and current military service members\, educators\, emergency personnel and service industry employees. \nThursdays | 9a-9p\n$46 Lift Tickets | $46 Rentals \nThursdays | 5p-9p\n$22 Lift Tickets | $33 Rentals \nThis promo is not available for purchase online. Offer is available in person at any lift ticket/rental outlet. Not valid on December 25 or January 1.
URL:https://www.shantycreek.com/event/thankful-thursdays/2026-02-26/
CATEGORIES:Ski,Snowmobiling
END:VEVENT
BEGIN:VEVENT
DTSTART;TZID=America/Detroit:20260219T090000
DTEND;TZID=America/Detroit:20260219T210000
DTSTAMP:20260423T060140
CREATED:20240703T143910Z
LAST-MODIFIED:20260225T150625Z
UID:139060-1771491600-1771534800@www.shantycreek.com
SUMMARY:Thank You Thursdays
DESCRIPTION:Every Thursday during the ski season\, we’re saying thank you to our former and current military service members\, educators\, emergency personnel and service industry employees. \nThursdays | 9a-9p\n$46 Lift Tickets | $46 Rentals \nThursdays | 5p-9p\n$22 Lift Tickets | $33 Rentals \nThis promo is not available for purchase online. Offer is available in person at any lift ticket/rental outlet. Not valid on December 25 or January 1.
URL:https://www.shantycreek.com/event/thankful-thursdays/2026-02-19/
CATEGORIES:Ski,Snowmobiling
END:VEVENT
BEGIN:VEVENT
DTSTART;TZID=America/Detroit:20260212T090000
DTEND;TZID=America/Detroit:20260212T210000
DTSTAMP:20260423T060140
CREATED:20240703T143910Z
LAST-MODIFIED:20260225T150625Z
UID:139059-1770886800-1770930000@www.shantycreek.com
SUMMARY:Thank You Thursdays
DESCRIPTION:Every Thursday during the ski season\, we’re saying thank you to our former and current military service members\, educators\, emergency personnel and service industry employees. \nThursdays | 9a-9p\n$46 Lift Tickets | $46 Rentals \nThursdays | 5p-9p\n$22 Lift Tickets | $33 Rentals \nThis promo is not available for purchase online. Offer is available in person at any lift ticket/rental outlet. Not valid on December 25 or January 1.
URL:https://www.shantycreek.com/event/thankful-thursdays/2026-02-12/
CATEGORIES:Ski,Snowmobiling
END:VEVENT
BEGIN:VEVENT
DTSTART;TZID=America/Detroit:20260205T090000
DTEND;TZID=America/Detroit:20260205T210000
DTSTAMP:20260423T060140
CREATED:20240703T143910Z
LAST-MODIFIED:20260225T150625Z
UID:139058-1770282000-1770325200@www.shantycreek.com
SUMMARY:Thank You Thursdays
DESCRIPTION:Every Thursday during the ski season\, we’re saying thank you to our former and current military service members\, educators\, emergency personnel and service industry employees. \nThursdays | 9a-9p\n$46 Lift Tickets | $46 Rentals \nThursdays | 5p-9p\n$22 Lift Tickets | $33 Rentals \nThis promo is not available for purchase online. Offer is available in person at any lift ticket/rental outlet. Not valid on December 25 or January 1.
URL:https://www.shantycreek.com/event/thankful-thursdays/2026-02-05/
CATEGORIES:Ski,Snowmobiling
END:VEVENT
BEGIN:VEVENT
DTSTART;TZID=America/Detroit:20260129T090000
DTEND;TZID=America/Detroit:20260129T210000
DTSTAMP:20260423T060140
CREATED:20240703T143910Z
LAST-MODIFIED:20260225T150625Z
UID:139057-1769677200-1769720400@www.shantycreek.com
SUMMARY:Thank You Thursdays
DESCRIPTION:Every Thursday during the ski season\, we’re saying thank you to our former and current military service members\, educators\, emergency personnel and service industry employees. \nThursdays | 9a-9p\n$46 Lift Tickets | $46 Rentals \nThursdays | 5p-9p\n$22 Lift Tickets | $33 Rentals \nThis promo is not available for purchase online. Offer is available in person at any lift ticket/rental outlet. Not valid on December 25 or January 1.
URL:https://www.shantycreek.com/event/thankful-thursdays/2026-01-29/
CATEGORIES:Ski,Snowmobiling
END:VEVENT
BEGIN:VEVENT
DTSTART;TZID=America/Detroit:20260122T090000
DTEND;TZID=America/Detroit:20260122T210000
DTSTAMP:20260423T060140
CREATED:20240703T143910Z
LAST-MODIFIED:20260225T150624Z
UID:139056-1769072400-1769115600@www.shantycreek.com
SUMMARY:Thank You Thursdays
DESCRIPTION:Every Thursday during the ski season\, we’re saying thank you to our former and current military service members\, educators\, emergency personnel and service industry employees. \nThursdays | 9a-9p\n$46 Lift Tickets | $46 Rentals \nThursdays | 5p-9p\n$22 Lift Tickets | $33 Rentals \nThis promo is not available for purchase online. Offer is available in person at any lift ticket/rental outlet. Not valid on December 25 or January 1.
URL:https://www.shantycreek.com/event/thankful-thursdays/2026-01-22/
CATEGORIES:Ski,Snowmobiling
END:VEVENT
BEGIN:VEVENT
DTSTART;TZID=America/Detroit:20260115T090000
DTEND;TZID=America/Detroit:20260115T210000
DTSTAMP:20260423T060140
CREATED:20240703T143910Z
LAST-MODIFIED:20260225T150624Z
UID:139055-1768467600-1768510800@www.shantycreek.com
SUMMARY:Thank You Thursdays
DESCRIPTION:Every Thursday during the ski season\, we’re saying thank you to our former and current military service members\, educators\, emergency personnel and service industry employees. \nThursdays | 9a-9p\n$46 Lift Tickets | $46 Rentals \nThursdays | 5p-9p\n$22 Lift Tickets | $33 Rentals \nThis promo is not available for purchase online. Offer is available in person at any lift ticket/rental outlet. Not valid on December 25 or January 1.
URL:https://www.shantycreek.com/event/thankful-thursdays/2026-01-15/
CATEGORIES:Ski,Snowmobiling
END:VEVENT
BEGIN:VEVENT
DTSTART;TZID=America/Detroit:20260108T090000
DTEND;TZID=America/Detroit:20260108T210000
DTSTAMP:20260423T060140
CREATED:20240703T143910Z
LAST-MODIFIED:20260225T150624Z
UID:133303-1767862800-1767906000@www.shantycreek.com
SUMMARY:Thank You Thursdays
DESCRIPTION:Every Thursday during the ski season\, we’re saying thank you to our former and current military service members\, educators\, emergency personnel and service industry employees. \nThursdays | 9a-9p\n$46 Lift Tickets | $46 Rentals \nThursdays | 5p-9p\n$22 Lift Tickets | $33 Rentals \nThis promo is not available for purchase online. Offer is available in person at any lift ticket/rental outlet. Not valid on December 25 or January 1.
URL:https://www.shantycreek.com/event/thankful-thursdays/2026-01-08/
CATEGORIES:Ski,Snowmobiling
END:VEVENT
END:VCALENDAR