BEGIN:VCALENDAR
VERSION:2.0
PRODID:-//Shanty Creek Resort - ECPv6.15.6//NONSGML v1.0//EN
CALSCALE:GREGORIAN
METHOD:PUBLISH
X-ORIGINAL-URL:https://www.shantycreek.com
X-WR-CALDESC:Events for Shanty Creek Resort
REFRESH-INTERVAL;VALUE=DURATION:PT1H
X-Robots-Tag:noindex
X-PUBLISHED-TTL:PT1H
BEGIN:VTIMEZONE
TZID:America/Detroit
BEGIN:DAYLIGHT
TZOFFSETFROM:-0500
TZOFFSETTO:-0400
TZNAME:EDT
DTSTART:20250309T070000
END:DAYLIGHT
BEGIN:STANDARD
TZOFFSETFROM:-0400
TZOFFSETTO:-0500
TZNAME:EST
DTSTART:20251102T060000
END:STANDARD
BEGIN:DAYLIGHT
TZOFFSETFROM:-0500
TZOFFSETTO:-0400
TZNAME:EDT
DTSTART:20260308T070000
END:DAYLIGHT
BEGIN:STANDARD
TZOFFSETFROM:-0400
TZOFFSETTO:-0500
TZNAME:EST
DTSTART:20261101T060000
END:STANDARD
BEGIN:DAYLIGHT
TZOFFSETFROM:-0500
TZOFFSETTO:-0400
TZNAME:EDT
DTSTART:20270314T070000
END:DAYLIGHT
BEGIN:STANDARD
TZOFFSETFROM:-0400
TZOFFSETTO:-0500
TZNAME:EST
DTSTART:20271107T060000
END:STANDARD
END:VTIMEZONE
BEGIN:VEVENT
DTSTART;VALUE=DATE:20260604
DTEND;VALUE=DATE:20260612
DTSTAMP:20260421T061912
CREATED:20131104T204956Z
LAST-MODIFIED:20260416T172228Z
UID:75405-1780531200-1781222399@www.shantycreek.com
SUMMARY:National Cherry Festival
DESCRIPTION:The Grand Traverse region\, known for its world-record tart cherry harvest\, bursts with visitors eager to savor the flavor of cherries tucked into everything imaginable. Each day Festival goers find cherry delights along with parades\, family and kid’s events and entertainment. In all\, there are more than 150 events along the shores of Lake Michigan’s Grand Traverse Bay. For more details\, visit cherryfestival.org.
URL:https://www.shantycreek.com/event/national-cherry-festival/
LOCATION:Downtown Traverse City\, W Grandview Pkwy & Union St\, Traverse City\, 49689
CATEGORIES:Community Event,Entertainment,Family Activity,Festival
ATTACH;FMTTYPE=image/jpeg:https://www.shantycreek.com/wp-content/uploads/2018/06/CherryFest-04.jpg
GEO:44.7656691;-85.6238475
X-APPLE-STRUCTURED-LOCATION;VALUE=URI;X-ADDRESS=Downtown Traverse City W Grandview Pkwy & Union St Traverse City 49689;X-APPLE-RADIUS=500;X-TITLE=W Grandview Pkwy & Union St:geo:-85.6238475,44.7656691
END:VEVENT
BEGIN:VEVENT
DTSTART;VALUE=DATE:20260605
DTEND;VALUE=DATE:20260615
DTSTAMP:20260421T061912
CREATED:20131104T213620Z
LAST-MODIFIED:20260416T171014Z
UID:435-1780617600-1781481599@www.shantycreek.com
SUMMARY:Mackinac Island Lilac Festival
DESCRIPTION:Celebrating Mackinac’s lilac collection which began in 1949 after a conversation with Evangilene “Ling” Horn and Nurse Stella King who encouraged the then teen and today’s Mackinac Island Carriage Tours veterinarian Dr. Bill Chambers to have a parade on Lilac Sunday. The idea was to bring people to the Island to enjoy a great horse drawn parade amidst the lovely lilacs that fragrance the Island in June. What began as a one day event called the Mackinac Island Lilac Day has blossomed into a ten-day festival. Details >
URL:https://www.shantycreek.com/event/435/
LOCATION:Mackinac Island\,  286 Grand Avenue\, Mackinac Island\, MI\, 49757\, United States
CATEGORIES:Community Event,Festival
ATTACH;FMTTYPE=:
GEO:45.8485896;-84.6223613
X-APPLE-STRUCTURED-LOCATION;VALUE=URI;X-ADDRESS=Mackinac Island  286 Grand Avenue Mackinac Island MI 49757 United States;X-APPLE-RADIUS=500;X-TITLE=286 Grand Avenue:geo:-84.6223613,45.8485896
END:VEVENT
BEGIN:VEVENT
DTSTART;TZID=America/Detroit:20260606T090000
DTEND;TZID=America/Detroit:20260606T100000
DTSTAMP:20260421T061912
CREATED:20210525T152050Z
LAST-MODIFIED:20260416T175244Z
UID:122551-1780736400-1780740000@www.shantycreek.com
SUMMARY:Yoga on the Summit
DESCRIPTION:Join Yoga Bellaire for outdoor yoga sessions featuring picturesque views of Lake Bellaire. Each one-hour class begins at 9am at The Lakeview outdoor pool and is $20. Online registration only at yogabellaire.com. Please plan to arrive 10-15min prior to the session and bring your yoga mat or large towel.
URL:https://www.shantycreek.com/event/yoga-on-the-summit/2026-06-06/
LOCATION:Lakeview Hotel\, 5780 Shanty Creek Rd.\, Bellaire\, MI\, 49615\, United States
CATEGORIES:Community Event,Family Activity,Fitness
ATTACH;FMTTYPE=image/png:https://www.shantycreek.com/wp-content/uploads/2021/05/IMG_0613.png
ORGANIZER;CN="Yoga Bellaire":MAILTO:YogaBellaire@gmail.com
GEO:44.9486505;-85.1852929
X-APPLE-STRUCTURED-LOCATION;VALUE=URI;X-ADDRESS=Lakeview Hotel 5780 Shanty Creek Rd. Bellaire MI 49615 United States;X-APPLE-RADIUS=500;X-TITLE=5780 Shanty Creek Rd.:geo:-85.1852929,44.9486505
END:VEVENT
BEGIN:VEVENT
DTSTART;TZID=America/Detroit:20260613T090000
DTEND;TZID=America/Detroit:20260613T100000
DTSTAMP:20260421T061912
CREATED:20210525T152050Z
LAST-MODIFIED:20210525T152050Z
UID:144082-1781341200-1781344800@www.shantycreek.com
SUMMARY:Yoga on the Summit
DESCRIPTION:Join Yoga Bellaire for outdoor yoga sessions featuring picturesque views of Lake Bellaire. Each one-hour class begins at 9am at The Lakeview outdoor pool and is $20. Online registration only at yogabellaire.com. Please plan to arrive 10-15min prior to the session and bring your yoga mat or large towel.
URL:https://www.shantycreek.com/event/yoga-on-the-summit/2026-06-13/
LOCATION:Lakeview Hotel\, 5780 Shanty Creek Rd.\, Bellaire\, MI\, 49615\, United States
CATEGORIES:Community Event,Family Activity,Fitness
ATTACH;FMTTYPE=image/png:https://www.shantycreek.com/wp-content/uploads/2021/05/IMG_0613.png
ORGANIZER;CN="Yoga Bellaire":MAILTO:YogaBellaire@gmail.com
GEO:44.9486505;-85.1852929
X-APPLE-STRUCTURED-LOCATION;VALUE=URI;X-ADDRESS=Lakeview Hotel 5780 Shanty Creek Rd. Bellaire MI 49615 United States;X-APPLE-RADIUS=500;X-TITLE=5780 Shanty Creek Rd.:geo:-85.1852929,44.9486505
END:VEVENT
BEGIN:VEVENT
DTSTART;TZID=America/Detroit:20260627T090000
DTEND;TZID=America/Detroit:20260627T100000
DTSTAMP:20260421T061912
CREATED:20210525T152050Z
LAST-MODIFIED:20210525T152050Z
UID:144083-1782550800-1782554400@www.shantycreek.com
SUMMARY:Yoga on the Summit
DESCRIPTION:Join Yoga Bellaire for outdoor yoga sessions featuring picturesque views of Lake Bellaire. Each one-hour class begins at 9am at The Lakeview outdoor pool and is $20. Online registration only at yogabellaire.com. Please plan to arrive 10-15min prior to the session and bring your yoga mat or large towel.
URL:https://www.shantycreek.com/event/yoga-on-the-summit/2026-06-27/
LOCATION:Lakeview Hotel\, 5780 Shanty Creek Rd.\, Bellaire\, MI\, 49615\, United States
CATEGORIES:Community Event,Family Activity,Fitness
ATTACH;FMTTYPE=image/png:https://www.shantycreek.com/wp-content/uploads/2021/05/IMG_0613.png
ORGANIZER;CN="Yoga Bellaire":MAILTO:YogaBellaire@gmail.com
GEO:44.9486505;-85.1852929
X-APPLE-STRUCTURED-LOCATION;VALUE=URI;X-ADDRESS=Lakeview Hotel 5780 Shanty Creek Rd. Bellaire MI 49615 United States;X-APPLE-RADIUS=500;X-TITLE=5780 Shanty Creek Rd.:geo:-85.1852929,44.9486505
END:VEVENT
END:VCALENDAR