BEGIN:VCALENDAR
VERSION:2.0
PRODID:-//Shanty Creek Resort - ECPv6.15.6//NONSGML v1.0//EN
CALSCALE:GREGORIAN
METHOD:PUBLISH
X-ORIGINAL-URL:https://www.shantycreek.com
X-WR-CALDESC:Events for Shanty Creek Resort
REFRESH-INTERVAL;VALUE=DURATION:PT1H
X-Robots-Tag:noindex
X-PUBLISHED-TTL:PT1H
BEGIN:VTIMEZONE
TZID:America/Detroit
BEGIN:DAYLIGHT
TZOFFSETFROM:-0500
TZOFFSETTO:-0400
TZNAME:EDT
DTSTART:20230312T070000
END:DAYLIGHT
BEGIN:STANDARD
TZOFFSETFROM:-0400
TZOFFSETTO:-0500
TZNAME:EST
DTSTART:20231105T060000
END:STANDARD
BEGIN:DAYLIGHT
TZOFFSETFROM:-0500
TZOFFSETTO:-0400
TZNAME:EDT
DTSTART:20240310T070000
END:DAYLIGHT
BEGIN:STANDARD
TZOFFSETFROM:-0400
TZOFFSETTO:-0500
TZNAME:EST
DTSTART:20241103T060000
END:STANDARD
BEGIN:DAYLIGHT
TZOFFSETFROM:-0500
TZOFFSETTO:-0400
TZNAME:EDT
DTSTART:20250309T070000
END:DAYLIGHT
BEGIN:STANDARD
TZOFFSETFROM:-0400
TZOFFSETTO:-0500
TZNAME:EST
DTSTART:20251102T060000
END:STANDARD
END:VTIMEZONE
BEGIN:VEVENT
DTSTART;TZID=America/Detroit:20241215T140000
DTEND;TZID=America/Detroit:20241215T170000
DTSTAMP:20260423T060130
CREATED:20221114T190536Z
LAST-MODIFIED:20241008T193834Z
UID:128986-1734271200-1734282000@www.shantycreek.com
SUMMARY:Dead On Tuning + Ethanology Distillation Ski/Snowboard Tuning Pop Up Shop
DESCRIPTION:Shanty Creek Resort’s Dead On Tuning will be hosting a ski/snowboard tuning pop up shop at Ethanology on Sunday\, December 15. Get your fill while you wait for our experienced technicians to get your skis or board ready for the season with our Mississippi Half Step Sharpen/Wax for just $25.
URL:https://www.shantycreek.com/event/dead-on-tuning-ethanology-distilling-ski-snowboard-tuning-pop-up-shop/
LOCATION:Ethanology Distillation\, 127 Ames St\, Elk Rapids\, MI\, 49629\, United States
CATEGORIES:Dining,Ski
ATTACH;FMTTYPE=image/jpeg:https://www.shantycreek.com/wp-content/uploads/2022/11/Untitled-2.jpg
END:VEVENT
BEGIN:VEVENT
DTSTART;VALUE=DATE:20241221
DTEND;VALUE=DATE:20241222
DTSTAMP:20260423T060130
CREATED:20240701T133100Z
LAST-MODIFIED:20241106T171159Z
UID:133164-1734739200-1734825599@www.shantycreek.com
SUMMARY:Merry Little Christmas Party
DESCRIPTION:Make the season merry and bright for the staff of your small company (or your group of friends!) with a holiday buffet perfect for individuals\, couples or groups of any size. $50/person. \nHors D’ Ouevres | Prime Rib | Holiday Dessert | Cash Bar | Dancing \nDoors open at 6pm\, Dinner begins at 7pm.  Entertainment by Jedi Mind Trip will begin at 7:30pm. \nDinner reservations must be made by November 25 by calling (231) 533-3083 or emailing kcollins@shantycreek.com.
URL:https://www.shantycreek.com/event/merry-little-christmas-party-2/
LOCATION:MI
CATEGORIES:Community Event,Dining,Entertainment,Live Music
END:VEVENT
END:VCALENDAR