BEGIN:VCALENDAR
VERSION:2.0
PRODID:-//Shanty Creek Resort - ECPv6.15.6//NONSGML v1.0//EN
CALSCALE:GREGORIAN
METHOD:PUBLISH
X-WR-CALNAME:Shanty Creek Resort
X-ORIGINAL-URL:https://www.shantycreek.com
X-WR-CALDESC:Events for Shanty Creek Resort
REFRESH-INTERVAL;VALUE=DURATION:PT1H
X-Robots-Tag:noindex
X-PUBLISHED-TTL:PT1H
BEGIN:VTIMEZONE
TZID:America/Detroit
BEGIN:DAYLIGHT
TZOFFSETFROM:-0500
TZOFFSETTO:-0400
TZNAME:EDT
DTSTART:20250309T070000
END:DAYLIGHT
BEGIN:STANDARD
TZOFFSETFROM:-0400
TZOFFSETTO:-0500
TZNAME:EST
DTSTART:20251102T060000
END:STANDARD
BEGIN:DAYLIGHT
TZOFFSETFROM:-0500
TZOFFSETTO:-0400
TZNAME:EDT
DTSTART:20260308T070000
END:DAYLIGHT
BEGIN:STANDARD
TZOFFSETFROM:-0400
TZOFFSETTO:-0500
TZNAME:EST
DTSTART:20261101T060000
END:STANDARD
BEGIN:DAYLIGHT
TZOFFSETFROM:-0500
TZOFFSETTO:-0400
TZNAME:EDT
DTSTART:20270314T070000
END:DAYLIGHT
BEGIN:STANDARD
TZOFFSETFROM:-0400
TZOFFSETTO:-0500
TZNAME:EST
DTSTART:20271107T060000
END:STANDARD
END:VTIMEZONE
BEGIN:VEVENT
DTSTART;TZID=America/Detroit:20260915T113000
DTEND;TZID=America/Detroit:20260915T180000
DTSTAMP:20260425T145059
CREATED:20250602T135548Z
LAST-MODIFIED:20260416T174351Z
UID:134943-1789471800-1789495200@www.shantycreek.com
SUMMARY:The Brent Nelson Classic
DESCRIPTION:Join us as we honor our friend and colleague\, Brent Nelson\, at our yearly golf outing at Cedar River GC\, which raises scholarship funds for students employed at Shanty Creek Resort. \n$55/person\nIncludes 18-hole scramble on Cedar River GC\, dinner buffet\, awards\, and proximity prizes. \nTo register\, call Shannon Hooper at 231-533-3095\, or email shooper@shantycreek.com.\n*Sponsorships are available\, and donations are welcome. Please call Shannon Hooper at 231-533-3095\, or email shooper@shantycreek.com to inquire about options.
URL:https://www.shantycreek.com/event/the-brent-nelson-classic/
LOCATION:MI
CATEGORIES:Golf
ATTACH;FMTTYPE=image/jpeg:https://www.shantycreek.com/wp-content/uploads/2025/06/1cedarriver-no06-crop.jpg
END:VEVENT
END:VCALENDAR