BEGIN:VCALENDAR
VERSION:2.0
PRODID:-//Shanty Creek Resort - ECPv6.15.6//NONSGML v1.0//EN
CALSCALE:GREGORIAN
METHOD:PUBLISH
X-ORIGINAL-URL:https://www.shantycreek.com
X-WR-CALDESC:Events for Shanty Creek Resort
REFRESH-INTERVAL;VALUE=DURATION:PT1H
X-Robots-Tag:noindex
X-PUBLISHED-TTL:PT1H
BEGIN:VTIMEZONE
TZID:America/Detroit
BEGIN:DAYLIGHT
TZOFFSETFROM:-0500
TZOFFSETTO:-0400
TZNAME:EDT
DTSTART:20250309T070000
END:DAYLIGHT
BEGIN:STANDARD
TZOFFSETFROM:-0400
TZOFFSETTO:-0500
TZNAME:EST
DTSTART:20251102T060000
END:STANDARD
BEGIN:DAYLIGHT
TZOFFSETFROM:-0500
TZOFFSETTO:-0400
TZNAME:EDT
DTSTART:20260308T070000
END:DAYLIGHT
BEGIN:STANDARD
TZOFFSETFROM:-0400
TZOFFSETTO:-0500
TZNAME:EST
DTSTART:20261101T060000
END:STANDARD
BEGIN:DAYLIGHT
TZOFFSETFROM:-0500
TZOFFSETTO:-0400
TZNAME:EDT
DTSTART:20270314T070000
END:DAYLIGHT
BEGIN:STANDARD
TZOFFSETFROM:-0400
TZOFFSETTO:-0500
TZNAME:EST
DTSTART:20271107T060000
END:STANDARD
END:VTIMEZONE
BEGIN:VEVENT
DTSTART;VALUE=DATE:20260918
DTEND;VALUE=DATE:20260921
DTSTAMP:20260420T055019
CREATED:20150116T192328Z
LAST-MODIFIED:20260416T174145Z
UID:4582-1789689600-1789948799@www.shantycreek.com
SUMMARY:Paddle Antrim Festival
DESCRIPTION:The Paddle Antrim Festival includes a two-day kayak paddle through Antrim County’s Chain of Lakes. The first day begins in Ellsworth continuing through Central Lake to Bellaire\, meandering through numerous small lakes. The second day will continue from Bellaire\, ending in Elk Rapids\, passing through Torch Lake\, Michigan’s longest inland lake. This 40+ mile paddle event highlights the wonderful natural resources-based activities available in Northern Michigan. Along the route\, local communities including Ellsworth\, Central Lake\, Bellaire\, and Elk Rapids will host other events\, illustrating what wonderful opportunities the communities have to offer. Details >
URL:https://www.shantycreek.com/event/paddle-antrim-festival/
CATEGORIES:Festival,Kayak
ATTACH;FMTTYPE=image/jpeg:https://www.shantycreek.com/wp-content/uploads/2013/11/paddleantrim.jpg
END:VEVENT
END:VCALENDAR