BEGIN:VCALENDAR
VERSION:2.0
PRODID:-//Shanty Creek Resort - ECPv6.15.6//NONSGML v1.0//EN
CALSCALE:GREGORIAN
METHOD:PUBLISH
X-ORIGINAL-URL:https://www.shantycreek.com
X-WR-CALDESC:Events for Shanty Creek Resort
REFRESH-INTERVAL;VALUE=DURATION:PT1H
X-Robots-Tag:noindex
X-PUBLISHED-TTL:PT1H
BEGIN:VTIMEZONE
TZID:America/Detroit
BEGIN:DAYLIGHT
TZOFFSETFROM:-0500
TZOFFSETTO:-0400
TZNAME:EDT
DTSTART:20230312T070000
END:DAYLIGHT
BEGIN:STANDARD
TZOFFSETFROM:-0400
TZOFFSETTO:-0500
TZNAME:EST
DTSTART:20231105T060000
END:STANDARD
BEGIN:DAYLIGHT
TZOFFSETFROM:-0500
TZOFFSETTO:-0400
TZNAME:EDT
DTSTART:20240310T070000
END:DAYLIGHT
BEGIN:STANDARD
TZOFFSETFROM:-0400
TZOFFSETTO:-0500
TZNAME:EST
DTSTART:20241103T060000
END:STANDARD
BEGIN:DAYLIGHT
TZOFFSETFROM:-0500
TZOFFSETTO:-0400
TZNAME:EDT
DTSTART:20250309T070000
END:DAYLIGHT
BEGIN:STANDARD
TZOFFSETFROM:-0400
TZOFFSETTO:-0500
TZNAME:EST
DTSTART:20251102T060000
END:STANDARD
END:VTIMEZONE
BEGIN:VEVENT
DTSTART;VALUE=DATE:20240716
DTEND;VALUE=DATE:20240719
DTSTAMP:20260420T042620
CREATED:20230316T144909Z
LAST-MODIFIED:20240408T164245Z
UID:129974-1721088000-1721347199@www.shantycreek.com
SUMMARY:Ladies Golf School
DESCRIPTION:Specifically tailored for women\, Shanty Creek Resort’s three-day golf school is a comprehensive learning experience\, covering all areas of play from driving to putting and everything between. \nGrab your besties and join in the fun! \n2024 Ladies Golf School Includes: \n• Three night’s lodging \n• 7.5 hours of instruction \n• Rounds of golf on The Legend and Schuss Mountain GC \n• $25 gift cards to spend on dining or the pro shop \n  \nMake Your Reservations Today! 844.501.4656
URL:https://www.shantycreek.com/event/ladies-golf-school-2/
LOCATION:Lakeview Hotel\, 5780 Shanty Creek Rd.\, Bellaire\, MI\, 49615\, United States
ATTACH;FMTTYPE=image/png:https://www.shantycreek.com/wp-content/uploads/2023/03/DSC01413.png
GEO:44.9486505;-85.1852929
X-APPLE-STRUCTURED-LOCATION;VALUE=URI;X-ADDRESS=Lakeview Hotel 5780 Shanty Creek Rd. Bellaire MI 49615 United States;X-APPLE-RADIUS=500;X-TITLE=5780 Shanty Creek Rd.:geo:-85.1852929,44.9486505
END:VEVENT
BEGIN:VEVENT
DTSTART;TZID=America/Detroit:20240722T100000
DTEND;TZID=America/Detroit:20240722T170000
DTSTAMP:20260420T042620
CREATED:20240517T194010Z
LAST-MODIFIED:20240703T141047Z
UID:132925-1721642400-1721667600@www.shantycreek.com
SUMMARY:Michigan State Scholarship Golf Outing
DESCRIPTION:Four-person scramble located at Hawk’s Eye GC\, benefiting the Michigan Turfgrass Foundation Superintendents As Executives (SAE) Scholarship for students in the turfgrass program at Michigan State University. \n$95/person | $380/teamIncludes 18 holes of golf on Hawk’s Eye GC\, lunch\, and proximity prizes. \nRegister Online: https://www.shantycreek.com/product/miturfgrassregistration \nDiscounted lodging is available for participants. To book online: https://www.shantycreek.com/reservations/michigan-turfgrass-foundation \nInterested in sponsoring a hole at the event? https://www.shantycreek.com/product/golf-hole-sponsorship \nMore about the SAE Scholarship: The Superintendents As Executives (SAE) scholarship is awarded to a student that not only excels in the turf management program but also shows an interest in a secondary concentration in business or a related field. The goal of this scholarship is to reward students who show the aptitude and ambition to grow in our industry in leadership positions beyond turf management. Shanty Creek Resort wants to inspirte future turf graduates to progress into positions as Directors of Agronomy\, General Managers and Executives.
URL:https://www.shantycreek.com/event/mi-turfgrass-scholarship-tournament/
CATEGORIES:Community Event,Golf
ATTACH;FMTTYPE=image/gif:https://www.shantycreek.com/wp-content/uploads/2022/01/he-2-header-1.gif
END:VEVENT
END:VCALENDAR