BEGIN:VCALENDAR
VERSION:2.0
PRODID:-//Shanty Creek Resort - ECPv6.15.6//NONSGML v1.0//EN
CALSCALE:GREGORIAN
METHOD:PUBLISH
X-WR-CALNAME:Shanty Creek Resort
X-ORIGINAL-URL:https://www.shantycreek.com
X-WR-CALDESC:Events for Shanty Creek Resort
REFRESH-INTERVAL;VALUE=DURATION:PT1H
X-Robots-Tag:noindex
X-PUBLISHED-TTL:PT1H
BEGIN:VTIMEZONE
TZID:America/Detroit
BEGIN:DAYLIGHT
TZOFFSETFROM:-0500
TZOFFSETTO:-0400
TZNAME:EDT
DTSTART:20240310T070000
END:DAYLIGHT
BEGIN:STANDARD
TZOFFSETFROM:-0400
TZOFFSETTO:-0500
TZNAME:EST
DTSTART:20241103T060000
END:STANDARD
BEGIN:DAYLIGHT
TZOFFSETFROM:-0500
TZOFFSETTO:-0400
TZNAME:EDT
DTSTART:20250309T070000
END:DAYLIGHT
BEGIN:STANDARD
TZOFFSETFROM:-0400
TZOFFSETTO:-0500
TZNAME:EST
DTSTART:20251102T060000
END:STANDARD
BEGIN:DAYLIGHT
TZOFFSETFROM:-0500
TZOFFSETTO:-0400
TZNAME:EDT
DTSTART:20260308T070000
END:DAYLIGHT
BEGIN:STANDARD
TZOFFSETFROM:-0400
TZOFFSETTO:-0500
TZNAME:EST
DTSTART:20261101T060000
END:STANDARD
END:VTIMEZONE
BEGIN:VEVENT
DTSTART;VALUE=DATE:20251010
DTEND;VALUE=DATE:20251013
DTSTAMP:20260423T044201
CREATED:20171010T153337Z
LAST-MODIFIED:20250222T152318Z
UID:74208-1760054400-1760313599@www.shantycreek.com
SUMMARY:Charlevoix Apple Fest
DESCRIPTION:Experience the magic of autumn in northern Michigan at the Charlevoix Apple Festival.  Join the festivities and show your support for our local farmers\, orchards and non-profit organizations while celebrating the season in scenic downtown Charlevoix this October.  The Harvest is in! Find out more about the Apple Festival.
URL:https://www.shantycreek.com/event/apple-fest/
LOCATION:Downtown Charlevoix\, 106 E Antrim\, Charlevoix\, 49720\, United States
CATEGORIES:Community Event,Culinary,Family Activity,Festival
ATTACH;FMTTYPE=image/jpeg:https://www.shantycreek.com/wp-content/uploads/2017/10/applefest.jpg
GEO:45.3152124;-85.2586989
X-APPLE-STRUCTURED-LOCATION;VALUE=URI;X-ADDRESS=Downtown Charlevoix 106 E Antrim Charlevoix 49720 United States;X-APPLE-RADIUS=500;X-TITLE=106 E Antrim:geo:-85.2586989,45.3152124
END:VEVENT
END:VCALENDAR