BEGIN:VCALENDAR
VERSION:2.0
PRODID:-//Shanty Creek Resort - ECPv6.15.6//NONSGML v1.0//EN
CALSCALE:GREGORIAN
METHOD:PUBLISH
X-ORIGINAL-URL:https://www.shantycreek.com
X-WR-CALDESC:Events for Shanty Creek Resort
REFRESH-INTERVAL;VALUE=DURATION:PT1H
X-Robots-Tag:noindex
X-PUBLISHED-TTL:PT1H
BEGIN:VTIMEZONE
TZID:America/Detroit
BEGIN:DAYLIGHT
TZOFFSETFROM:-0500
TZOFFSETTO:-0400
TZNAME:EDT
DTSTART:20240310T070000
END:DAYLIGHT
BEGIN:STANDARD
TZOFFSETFROM:-0400
TZOFFSETTO:-0500
TZNAME:EST
DTSTART:20241103T060000
END:STANDARD
BEGIN:DAYLIGHT
TZOFFSETFROM:-0500
TZOFFSETTO:-0400
TZNAME:EDT
DTSTART:20250309T070000
END:DAYLIGHT
BEGIN:STANDARD
TZOFFSETFROM:-0400
TZOFFSETTO:-0500
TZNAME:EST
DTSTART:20251102T060000
END:STANDARD
BEGIN:DAYLIGHT
TZOFFSETFROM:-0500
TZOFFSETTO:-0400
TZNAME:EDT
DTSTART:20260308T070000
END:DAYLIGHT
BEGIN:STANDARD
TZOFFSETFROM:-0400
TZOFFSETTO:-0500
TZNAME:EST
DTSTART:20261101T060000
END:STANDARD
END:VTIMEZONE
BEGIN:VEVENT
DTSTART;TZID=America/Detroit:20251128T193000
DTEND;TZID=America/Detroit:20251128T220000
DTSTAMP:20260425T195531
CREATED:20220707T132806Z
LAST-MODIFIED:20251106T143034Z
UID:126407-1764358200-1764367200@www.shantycreek.com
SUMMARY:Warren Miller at Ivan's
DESCRIPTION:Join us at Ivan’s for Warren Miller’s Sno-ciety during the Thanksgiving Weekend for a night sharing some early season vibes with our community. \nDoors Open @ 6:45pm \nFilm Begins @ 7:30pm \nBuy Tickets >
URL:https://www.shantycreek.com/event/warren-miller-at-ivans/
LOCATION:Ivan’s Cafe\, 1826 Schuss Mountain Ln\, Mancelona\, MI\, 49659
CATEGORIES:Entertainment,Family Activity,Ski
ATTACH;FMTTYPE=image/png:https://www.shantycreek.com/wp-content/uploads/2022/07/2160-x-1080_WME76_EventHeader-min-e1760035612612.png
GEO:44.937238;-85.1305888
X-APPLE-STRUCTURED-LOCATION;VALUE=URI;X-ADDRESS=Ivan’s Cafe 1826 Schuss Mountain Ln Mancelona MI 49659;X-APPLE-RADIUS=500;X-TITLE=1826 Schuss Mountain Ln:geo:-85.1305888,44.937238
END:VEVENT
END:VCALENDAR